BEGIN:VCALENDAR
PRODID:-//Ben Fortuna//iCal4j 1.0//EN
VERSION:2.0
CALSCALE:GREGORIAN
BEGIN:VTIMEZONE
TZID:Europe/Berlin
LAST-MODIFIED:20201010T011803Z
TZURL:http://tzurl.org/zoneinfo/Europe/Berlin
X-LIC-LOCATION:Europe/Berlin
X-PROLEPTIC-TZNAME:LMT
BEGIN:STANDARD
TZNAME:CET
TZOFFSETFROM:+005328
TZOFFSETTO:+0100
DTSTART:18930401T000000
END:STANDARD
BEGIN:DAYLIGHT
TZNAME:CEST
TZOFFSETFROM:+0100
TZOFFSETTO:+0200
DTSTART:19160430T230000
RDATE:19400401T020000
RDATE:19430329T020000
RDATE:19460414T020000
RDATE:19470406T030000
RDATE:19480418T020000
RDATE:19490410T020000
RDATE:19800406T020000
END:DAYLIGHT
BEGIN:STANDARD
TZNAME:CET
TZOFFSETFROM:+0200
TZOFFSETTO:+0100
DTSTART:19161001T010000
RDATE:19421102T030000
RDATE:19431004T030000
RDATE:19441002T030000
RDATE:19451118T030000
RDATE:19461007T030000
END:STANDARD
BEGIN:DAYLIGHT
TZNAME:CEST
TZOFFSETFROM:+0100
TZOFFSETTO:+0200
DTSTART:19170416T020000
RRULE:FREQ=YEARLY;UNTIL=19180415T010000Z;BYMONTH=4;BYDAY=3MO
END:DAYLIGHT
BEGIN:STANDARD
TZNAME:CET
TZOFFSETFROM:+0200
TZOFFSETTO:+0100
DTSTART:19170917T030000
RRULE:FREQ=YEARLY;UNTIL=19180916T010000Z;BYMONTH=9;BYDAY=3MO
END:STANDARD
BEGIN:DAYLIGHT
TZNAME:CEST
TZOFFSETFROM:+0100
TZOFFSETTO:+0200
DTSTART:19440403T020000
RRULE:FREQ=YEARLY;UNTIL=19450402T010000Z;BYMONTH=4;BYDAY=1MO
END:DAYLIGHT
BEGIN:DAYLIGHT
TZNAME:CEMT
TZOFFSETFROM:+0200
TZOFFSETTO:+0300
DTSTART:19450524T020000
RDATE:19470511T030000
END:DAYLIGHT
BEGIN:DAYLIGHT
TZNAME:CEST
TZOFFSETFROM:+0300
TZOFFSETTO:+0200
DTSTART:19450924T030000
RDATE:19470629T030000
END:DAYLIGHT
BEGIN:STANDARD
TZNAME:CET
TZOFFSETFROM:+0100
TZOFFSETTO:+0100
DTSTART:19460101T000000
RDATE:19800101T000000
END:STANDARD
BEGIN:STANDARD
TZNAME:CET
TZOFFSETFROM:+0200
TZOFFSETTO:+0100
DTSTART:19471005T030000
RRULE:FREQ=YEARLY;UNTIL=19491002T010000Z;BYMONTH=10;BYDAY=1SU
END:STANDARD
BEGIN:STANDARD
TZNAME:CET
TZOFFSETFROM:+0200
TZOFFSETTO:+0100
DTSTART:19800928T030000
RRULE:FREQ=YEARLY;UNTIL=19950924T010000Z;BYMONTH=9;BYDAY=-1SU
END:STANDARD
BEGIN:DAYLIGHT
TZNAME:CEST
TZOFFSETFROM:+0100
TZOFFSETTO:+0200
DTSTART:19810329T020000
RRULE:FREQ=YEARLY;BYMONTH=3;BYDAY=-1SU
END:DAYLIGHT
BEGIN:STANDARD
TZNAME:CET
TZOFFSETFROM:+0200
TZOFFSETTO:+0100
DTSTART:19961027T030000
RRULE:FREQ=YEARLY;BYMONTH=10;BYDAY=-1SU
END:STANDARD
END:VTIMEZONE
BEGIN:VEVENT
DTSTAMP:20260420T142705Z
DTSTART;VALUE=DATE:20251128
DTEND;VALUE=DATE:20251224
SUMMARY:Weihnachtsgewinnspiel im Einzelhandel
CREATED:20251114T084622Z
LAST-MODIFIED:20251114T084622Z
DESCRIPTION:Wie stellen Sie sich Ihren perfekten Tag in Tettnang vor? Geh
 en Sie mit Ihrer Familie essen\, mit der besten Freundin ausgiebig shopp
 en oder gönnen Sie sich nach einer Typverwandlung beim Friseur das passe
 nde Outfit? Ihr individueller perfekter Tag ist dieses Jahr der Hauptpre
 is im Weihnachtsgewinnspiel des Citymarketingverein Tettnang erleben. \n
 \nWie nehmen Sie am Gewinnspiel teil? Bei jedem Einkauf im Aktionszeitra
 um erhalten Sie in allen teilnehmenden Betrieben einen Stempel in Ihre G
 ewinnspielkarte- mit sechs Stempeln ist diese komplett und kann bis 23.1
 2. um 18:00 Uhr in die Losbox am Bärenplatz eingeworfen werden.\n\nNeben
  dem Hauptpreis können Sie in diesem Jahr zudem 10x 100\,- Euro Tettnang
 er Einkaufsgutschein und 10x 50\,- Euro Tettnanger Einkaufsgutschein gew
 innen. Gemeinsam mit der Diakonie Pfingstweid verlosen wir zudem 5x Schl
 ittenwichte Niclas. \n\nDenken Sie bei Ihren Weihnachtseinkäufen auch an
  die Tettnanger Geschenkgutscheine – ein schönes Geschenk\, das Freude b
 ereitet und unsere lokalen Geschäfte unterstützt.
ORGANIZER;CN=Tettnang erleben e.V.:mailto:info@tettnang-erleben.de
X-ORGANIZER-NAME:Tettnang erleben e.V.
X-ORGANIZER-EMAIL:info@tettnang-erleben.de
X-ORGANIZER-TELEPHONE:+491707702300
X-ORGANIZER-WEBSITE:https://tettnang-erleben.de/
X-ORGANIZER-ADDRESS-POSTALCODE:88069
X-ORGANIZER-ADDRESS-LOCALITY:88069 Tettnang
X-ORGANIZER-ADDRESS-STREET:Lindauer Str. 2\, 88069 Tettnang
URL:https://tettnang-erleben.de/aktuelles/
RRULE:FREQ=DAILY;COUNT=1;INTERVAL=1
ATTACH;FMTTYPE=image/jpeg:https://www.tettnang.de/de/kalender/gemeldete-v
 eranstaltungen/2025/november/2025-11-28-weihnachtsgewinnspiel-im-einzelh
 andel/tte-weihnachtsgewinnpiel-post-2025-v01.jpg?cid=12v4.7rlm
UID:9628db0f-23ed-4584-8583-e2b32617b476
X-PRICE:Keine Angabe
END:VEVENT
END:VCALENDAR
